BEGIN:VCALENDAR
VERSION:2.0
PRODID:-//SV Landesgruppe Hessen-Süd - ECPv6.15.20//NONSGML v1.0//EN
CALSCALE:GREGORIAN
METHOD:PUBLISH
X-WR-CALNAME:SV Landesgruppe Hessen-Süd
X-ORIGINAL-URL:https://sv-lg08.de
X-WR-CALDESC:Veranstaltungen für SV Landesgruppe Hessen-Süd
REFRESH-INTERVAL;VALUE=DURATION:PT1H
X-Robots-Tag:noindex
X-PUBLISHED-TTL:PT1H
BEGIN:VTIMEZONE
TZID:Europe/Berlin
BEGIN:DAYLIGHT
TZOFFSETFROM:+0100
TZOFFSETTO:+0200
TZNAME:CEST
DTSTART:20250330T010000
END:DAYLIGHT
BEGIN:STANDARD
TZOFFSETFROM:+0200
TZOFFSETTO:+0100
TZNAME:CET
DTSTART:20251026T010000
END:STANDARD
BEGIN:DAYLIGHT
TZOFFSETFROM:+0100
TZOFFSETTO:+0200
TZNAME:CEST
DTSTART:20260329T010000
END:DAYLIGHT
BEGIN:STANDARD
TZOFFSETFROM:+0200
TZOFFSETTO:+0100
TZNAME:CET
DTSTART:20261025T010000
END:STANDARD
BEGIN:DAYLIGHT
TZOFFSETFROM:+0100
TZOFFSETTO:+0200
TZNAME:CEST
DTSTART:20270328T010000
END:DAYLIGHT
BEGIN:STANDARD
TZOFFSETFROM:+0200
TZOFFSETTO:+0100
TZNAME:CET
DTSTART:20271031T010000
END:STANDARD
END:VTIMEZONE
BEGIN:VEVENT
DTSTART;VALUE=DATE:20260425
DTEND;VALUE=DATE:20260426
DTSTAMP:20260424T141403
CREATED:20251204T003609Z
LAST-MODIFIED:20260330T225401Z
UID:7124-1777075200-1777161599@sv-lg08.de
SUMMARY:HJJM 2026 Prüfung & Agility OG Heusenstamm
DESCRIPTION:Ort: \nOG Heusenstamm \n\nSchloßstraße 57\n63150 Heusenstamm\n\n\nRichter: Hans-Peter Feldmann\nLH: Lukas Grenzer\n\nRichter Agility: Björn Bröker
URL:https://sv-lg08.de/event/hjjm-2026/
CATEGORIES:Alle Termine,Jugend,Leistung,Sport
ATTACH;FMTTYPE=image/png:https://sv-lg08.de/wp-content/uploads/2026/03/NEU-HJJM-2026-.png
END:VEVENT
BEGIN:VEVENT
DTSTART;VALUE=DATE:20260425
DTEND;VALUE=DATE:20260427
DTSTAMP:20260424T141403
CREATED:20251204T003908Z
LAST-MODIFIED:20251204T003908Z
UID:7128-1777075200-1777247999@sv-lg08.de
SUMMARY:7-Länderwettkampf 2026 in Zeil am Main
DESCRIPTION:
URL:https://sv-lg08.de/event/7-laenderwettkampf-2026-in-zeil-am-main/
CATEGORIES:Alle Termine,Leistung
END:VEVENT
BEGIN:VEVENT
DTSTART;VALUE=DATE:20260426
DTEND;VALUE=DATE:20260427
DTSTAMP:20260424T141403
CREATED:20260104T013345Z
LAST-MODIFIED:20260330T225121Z
UID:7196-1777161600-1777247999@sv-lg08.de
SUMMARY:HJJM 2026 Zuchtschau OG Heusenstamm
DESCRIPTION:Ort: \nOG Heusenstamm \n\nSchloßstraße 57\n63150 Heusenstamm\n\n\nZuchtrichterin: Mandy Menzel
URL:https://sv-lg08.de/event/lg-jugendzuchtschau-2026-og-heusenstamm/
CATEGORIES:Alle Termine,Jugend,Zucht
ATTACH;FMTTYPE=image/png:https://sv-lg08.de/wp-content/uploads/2026/03/NEU-HJJM-2026-1.png
END:VEVENT
BEGIN:VEVENT
DTSTART;VALUE=DATE:20260509
DTEND;VALUE=DATE:20260510
DTSTAMP:20260424T141403
CREATED:20251203T220605Z
LAST-MODIFIED:20260419T233922Z
UID:7051-1778284800-1778371199@sv-lg08.de
SUMMARY:Körung 2026 OG Frankfurt-Praunheim
DESCRIPTION:Ort: \nOG Frankfurt-Praunheim \nNiedwiesenstraße (für das Navi die Hausnummer 130 eingeben) \n60431 Frankfurt \nKM: Mandy Menzel \nLH: Erik Lewald \nMeldestelle: Birgit Sauerbrey  Handy: 01775552940  \n069/95294057  \nsauerbrey@og-ffm-praunheim.de \nProbeschutzdienst mit KH Erik Lewald: Freitag\, den 24.04.2026 um 18 Uhr und Sonntag\, den 03.05.2026 um 10:30 Uhr
URL:https://sv-lg08.de/event/koerung-2026-og-frankfurt-praunheim/
CATEGORIES:Alle Termine,Körung
ATTACH;FMTTYPE=image/jpeg:https://sv-lg08.de/wp-content/uploads/2026/03/Koerung-09.05.2026-Praunheim.jpg
END:VEVENT
BEGIN:VEVENT
DTSTART;VALUE=DATE:20260509
DTEND;VALUE=DATE:20260510
DTSTAMP:20260424T141403
CREATED:20251203T221910Z
LAST-MODIFIED:20260101T195827Z
UID:7055-1778284800-1778371199@sv-lg08.de
SUMMARY:Übungsleiterlizenz in B 2026 OG Schöneck
DESCRIPTION:Ort: \nOG Schöneck \nAm Kühwald 3 \n61137 Schöneck \nANMELDUNG \n 
URL:https://sv-lg08.de/event/uebungsleiterlizenz-in-b-2026-og-schoeneck/
CATEGORIES:Alle Termine,Leistung,Übungsleiterlizenz
ATTACH;FMTTYPE=image/jpeg:https://sv-lg08.de/wp-content/uploads/2026/01/Uebungsleiterlizenz_B_Flyer_2026.jpg
END:VEVENT
BEGIN:VEVENT
DTSTART;VALUE=DATE:20260531
DTEND;VALUE=DATE:20260601
DTSTAMP:20260424T141403
CREATED:20251203T222353Z
LAST-MODIFIED:20260131T120347Z
UID:7059-1780185600-1780271999@sv-lg08.de
SUMMARY:Wesensbeurteilung 2026 OG Allendorf/Lumda
DESCRIPTION:Ort: \nOG Allendorf/Lumda \nKleinmühle\n35469 Allendorf/Lumda \nWB: Paul-Werner Koch  SB: Stephanie Orlik \nMeldestelle: Marion Guist Tel. 0172/6691534 m-84@gmx.de \n 
URL:https://sv-lg08.de/event/wesensbeurteilung-2026-og-allendorf-lumda/
CATEGORIES:Alle Termine,Wesensbeurteilung
ATTACH;FMTTYPE=image/jpeg:https://sv-lg08.de/wp-content/uploads/2026/01/Wesensbeurteilung_Flyer_OGAllendorfLumda2026.jpg
END:VEVENT
BEGIN:VEVENT
DTSTART;VALUE=DATE:20260627
DTEND;VALUE=DATE:20260628
DTSTAMP:20260424T141403
CREATED:20260318T223906Z
LAST-MODIFIED:20260318T223906Z
UID:7473-1782518400-1782604799@sv-lg08.de
SUMMARY:1. SV Landesmeisterschaft/LM Jugend Rally Obedience OG Taunusstein
DESCRIPTION:Ort: \nOG Taunusstein \nRichterin: Sabine Hastenrath \nKlassen: RO 3\, RO 2\, RO 1\, RO S\, RO B \nMeldebeginn: 15.03.2026 \n Meldeschluss: 26.06.2026 \nMeldegebühr: 17.- Euro \nMeldungen über O.M.A. \nKontakt: tanja-29@web.de
URL:https://sv-lg08.de/event/1-sv-landesmeisterschaft-lm-jugend-rally-obedience-og-taunusstein/
CATEGORIES:Alle Termine,Sport
ATTACH;FMTTYPE=image/jpeg:https://sv-lg08.de/wp-content/uploads/2026/03/RO_LM2026-e1773872781199.jpg
END:VEVENT
BEGIN:VEVENT
DTSTART;VALUE=DATE:20260630
DTEND;VALUE=DATE:20260705
DTSTAMP:20260424T141403
CREATED:20251204T003451Z
LAST-MODIFIED:20251204T003451Z
UID:7122-1782777600-1783209599@sv-lg08.de
SUMMARY:LG-Jugendzeltlager 2026
DESCRIPTION:
URL:https://sv-lg08.de/event/lg-jugendzeltlager-2026/
CATEGORIES:Alle Termine,Jugend
END:VEVENT
BEGIN:VEVENT
DTSTART;VALUE=DATE:20260710
DTEND;VALUE=DATE:20260713
DTSTAMP:20260424T141403
CREATED:20251203T225140Z
LAST-MODIFIED:20260131T120023Z
UID:7069-1783641600-1783900799@sv-lg08.de
SUMMARY:Wesensbeurteilung 2026 OG Pfungstadt
DESCRIPTION:Ort: \nOG Pfungstadt \nAusserhalb 80\, 64319 Pfungstadt \nWB: Dirk Gabriel  SB: Erik Lewald \nMeldestelle: Fabian Schlick Tel. 0174/3805300 fabianschlick@yahoo.de \n 
URL:https://sv-lg08.de/event/wesensbeurteilung-2026-og-pfungstadt/
CATEGORIES:Alle Termine,Wesensbeurteilung
ATTACH;FMTTYPE=image/jpeg:https://sv-lg08.de/wp-content/uploads/2026/01/Wesensbeurteilung_Flyer_OGPfungstadt2026.jpg
END:VEVENT
BEGIN:VEVENT
DTSTART;VALUE=DATE:20260718
DTEND;VALUE=DATE:20260719
DTSTAMP:20260424T141403
CREATED:20251224T231745Z
LAST-MODIFIED:20260330T230137Z
UID:7173-1784332800-1784419199@sv-lg08.de
SUMMARY:Zuchtschau 2026 OG Groß-Zimmern Mitte
DESCRIPTION:Ort: \nOG Groß-Zimmern Mitte \nKlein-Zimmerner Str. 60\n64846 Gross-Zimmern \nMeldestelle: Christiane Becka-Lawrence\, E-Mail: james-christiane@unitybox.de\, SVDoxs
URL:https://sv-lg08.de/event/zuchtschau-2026-og-gross-zimmern/
CATEGORIES:Alle Termine,Zucht
END:VEVENT
BEGIN:VEVENT
DTSTART;VALUE=DATE:20260725
DTEND;VALUE=DATE:20260726
DTSTAMP:20260424T141403
CREATED:20251203T225528Z
LAST-MODIFIED:20260330T230420Z
UID:7073-1784937600-1785023999@sv-lg08.de
SUMMARY:Körung 2026 OG Groß-Zimmern Mitte
DESCRIPTION:Ort: \nOG Gr0ß-Zimmern Mitte \nKlein-Zimmerner Str. 60\n64846 Gross-Zimmern  \nKM: Mandy Menzel \nLH: Fabian Schlick \nMeldestelle: Lothar Galinski\, 0152- 38493846 og-Gross-Zimmern-Mitte@t-online.de \n 
URL:https://sv-lg08.de/event/koerung-2026-og-gross-zimmern/
CATEGORIES:Alle Termine,Körung
ATTACH;FMTTYPE=image/jpeg:https://sv-lg08.de/wp-content/uploads/2026/03/Koerung-25.07.2026-Gross-Zimmern.jpg
END:VEVENT
BEGIN:VEVENT
DTSTART;VALUE=DATE:20260802
DTEND;VALUE=DATE:20260803
DTSTAMP:20260424T141403
CREATED:20251203T230624Z
LAST-MODIFIED:20251204T003236Z
UID:7077-1785628800-1785715199@sv-lg08.de
SUMMARY:LG-Zuchtschau 2026 OG Bischofsheim
DESCRIPTION:Ort: \nOG Bischofsheim \nGinsheimer Landstr. 19 \n65474 Bischofsheim \nZuchtrichterin: Mandy Menzel
URL:https://sv-lg08.de/event/zuchtschau-2026-og-bischofsheim/
CATEGORIES:Alle Termine,Zucht
END:VEVENT
BEGIN:VEVENT
DTSTART;TZID=Europe/Berlin:20260815T160000
DTEND;TZID=Europe/Berlin:20260815T235900
DTSTAMP:20260424T141403
CREATED:20260316T194310Z
LAST-MODIFIED:20260327T163017Z
UID:7450-1786809600-1786838340@sv-lg08.de
SUMMARY:Zucht- und Nachwuchsschau 2026 OG Wiesbaden-Bierstadt
DESCRIPTION:Ort: \nOG Wi.-Bierstadt \nNauroder Straße \n65191 Wiesbaden \nRichter: Jens Lambertus \nMeldestelle: Manuela Russ Tel.: 06127/6338 \nSV-OG-Wi-Bierstadt@gmx.de
URL:https://sv-lg08.de/event/zucht-und-nachwuchsschau-2026-og-wiesbaden-bierstadt/
CATEGORIES:Alle Termine,Zucht
ATTACH;FMTTYPE=image/jpeg:https://sv-lg08.de/wp-content/uploads/2026/03/Zuchtschau_Wi._Bierstadt_Flyer-2026.jpg
END:VEVENT
BEGIN:VEVENT
DTSTART;VALUE=DATE:20260822
DTEND;VALUE=DATE:20260824
DTSTAMP:20260424T141403
CREATED:20251203T211607Z
LAST-MODIFIED:20251203T211607Z
UID:7022-1787356800-1787529599@sv-lg08.de
SUMMARY:LGA 2026 OG Nidda
DESCRIPTION:Ort: \nOG Nidda \nAm Sportheim\n63667 Nidda-Unterschmitten  \nRichter: A: Feldmann B: Kramny C: Mack  \nFigurant: Teil1: Finn- Tauber Teil 2: Steinbrecher   \nErsatz:
URL:https://sv-lg08.de/event/lga-2026-og-nidda/
CATEGORIES:Alle Termine,Leistung
ATTACH;FMTTYPE=image/png:https://sv-lg08.de/wp-content/uploads/2025/12/LGA-26.png
END:VEVENT
BEGIN:VEVENT
DTSTART;VALUE=DATE:20260828
DTEND;VALUE=DATE:20260831
DTSTAMP:20260424T141403
CREATED:20251203T231022Z
LAST-MODIFIED:20260131T115932Z
UID:7085-1787875200-1788134399@sv-lg08.de
SUMMARY:Wesensbeurteilung 2026 OG Weiskirchen
DESCRIPTION:Ort: \nOG Weiskirchen \nHauptstr. 207\n63110 Rodgau \nWB: Hans-Peter Feldmann \nSB: Marc Eberius \nMeldestelle: Thomas Eberius Tel. 0175/4343435 th.eberius@t-online.de \n 
URL:https://sv-lg08.de/event/wesensbeurteilung-2026-og-weiskirchen/
CATEGORIES:Alle Termine,Wesensbeurteilung
ATTACH;FMTTYPE=image/jpeg:https://sv-lg08.de/wp-content/uploads/2026/01/Wesensbeurteilung_Flyer_OGWeiskirchen2026.jpg
END:VEVENT
BEGIN:VEVENT
DTSTART;VALUE=DATE:20260829
DTEND;VALUE=DATE:20260830
DTSTAMP:20260424T141403
CREATED:20251204T200015Z
LAST-MODIFIED:20251224T231553Z
UID:7139-1787961600-1788047999@sv-lg08.de
SUMMARY:Körung 2026 OG Idstein
DESCRIPTION:Ort: \nOG Idstein \nHohe Straße\n– ohne Hausnummer-\n65510 Idstein \nKM: Dirk Gabriel \nLH: Erik Tauber \nMeldestelle: Claudine Laichinger Tel: 0177/6866014 prado82@aol.com
URL:https://sv-lg08.de/event/koerung-2026-og-idstein/
CATEGORIES:Alle Termine,Körung
END:VEVENT
BEGIN:VEVENT
DTSTART;VALUE=DATE:20261003
DTEND;VALUE=DATE:20261005
DTSTAMP:20260424T141403
CREATED:20251203T232947Z
LAST-MODIFIED:20260131T120305Z
UID:7091-1790985600-1791158399@sv-lg08.de
SUMMARY:Wesensbeurteilung 2026 OG Bernbach
DESCRIPTION:Ort: \nOG Bernbach \nFriedhofstraße\n63579 Freigericht-Bernbach \nWB: Thomas Lapp  SB: Sascha Christ \nMeldestelle: Angelika Gerlach Tel. 0163/9773999 mail: gerlach.angelika@gmx.de
URL:https://sv-lg08.de/event/wesensbeurteilung-2026-og-bernbach/
CATEGORIES:Alle Termine,Wesensbeurteilung
ATTACH;FMTTYPE=image/jpeg:https://sv-lg08.de/wp-content/uploads/2026/01/Wesensbeurteilung_Flyer_OGBernbach2026.jpg
END:VEVENT
BEGIN:VEVENT
DTSTART;VALUE=DATE:20261003
DTEND;VALUE=DATE:20261004
DTSTAMP:20260424T141403
CREATED:20251204T004502Z
LAST-MODIFIED:20251214T200211Z
UID:7132-1790985600-1791071999@sv-lg08.de
SUMMARY:LG-FH 2026 OG Hungen
DESCRIPTION:Ort: \nOG Hungen \nHolzbrückenweg\n35410 Hungen
URL:https://sv-lg08.de/event/lg-fh-2026/
CATEGORIES:Alle Termine,Leistung
END:VEVENT
BEGIN:VEVENT
DTSTART;VALUE=DATE:20261004
DTEND;VALUE=DATE:20261005
DTSTAMP:20260424T141403
CREATED:20251204T004127Z
LAST-MODIFIED:20251204T004127Z
UID:7130-1791072000-1791158399@sv-lg08.de
SUMMARY:Süddeutsche Jugend-Zuchtschau 2026
DESCRIPTION:
URL:https://sv-lg08.de/event/sueddeutsche-jugend-zuchtschau-2026/
CATEGORIES:Alle Termine,Jugend,Zucht
END:VEVENT
BEGIN:VEVENT
DTSTART;VALUE=DATE:20261010
DTEND;VALUE=DATE:20261011
DTSTAMP:20260424T141403
CREATED:20251203T233419Z
LAST-MODIFIED:20260131T120557Z
UID:7095-1791590400-1791676799@sv-lg08.de
SUMMARY:Körung 2026 OG Lampertheim
DESCRIPTION:Ort: \nOG Lampertheim \nIn den Böllenruthen 50\n68623 Lampertheim \nKM: Dirk Gabirel \nLH: Jens Pauly \nMeldestelle: Marianne Rößling\, 0160-7559396 mroessling@t-online.de \n 
URL:https://sv-lg08.de/event/koerung-2026-og-lampertheim/
CATEGORIES:Alle Termine,Körung
ATTACH;FMTTYPE=image/jpeg:https://sv-lg08.de/wp-content/uploads/2026/01/Koerung-10.10.2026-Lampertheim.jpg
END:VEVENT
BEGIN:VEVENT
DTSTART;VALUE=DATE:20261031
DTEND;VALUE=DATE:20261101
DTSTAMP:20260424T141403
CREATED:20251203T233624Z
LAST-MODIFIED:20251203T233910Z
UID:7099-1793404800-1793491199@sv-lg08.de
SUMMARY:Zuchtschau 2026 OG Schöneck
DESCRIPTION:Ort: \nOG Schöneck \nAm Kühwald 3 \n61137 Schöneck \nZuchtrichterin: Mandy Menzel
URL:https://sv-lg08.de/event/zuchtschau-2026-og-schoeneck/
CATEGORIES:Alle Termine,Zucht
END:VEVENT
BEGIN:VEVENT
DTSTART;VALUE=DATE:20261031
DTEND;VALUE=DATE:20261101
DTSTAMP:20260424T141403
CREATED:20251204T004556Z
LAST-MODIFIED:20251204T004556Z
UID:7134-1793404800-1793491199@sv-lg08.de
SUMMARY:Jugend Halloween-Training 2026
DESCRIPTION:
URL:https://sv-lg08.de/event/jugend-halloween-training-2026/
CATEGORIES:Alle Termine,Jugend
END:VEVENT
BEGIN:VEVENT
DTSTART;VALUE=DATE:20261106
DTEND;VALUE=DATE:20261109
DTSTAMP:20260424T141403
CREATED:20251203T234402Z
LAST-MODIFIED:20260131T115833Z
UID:7103-1793923200-1794182399@sv-lg08.de
SUMMARY:Wesensbeurteilung 2026 OG Neu-Anspach
DESCRIPTION:Ort: \nOG Neu-Anspach \nAm Steinchen\n61267 Neu-Anspach \nWB: Hans-Peter Feldmann \nSB: Andreas Röhrig \nMeldestelle: Jasmin Nicola Tel.: 0176/95506606 mail: jasmin-nicolai@web.de
URL:https://sv-lg08.de/event/wesensbeurteilung-2026-og-neu-anspach/
CATEGORIES:Alle Termine,Wesensbeurteilung
ATTACH;FMTTYPE=image/jpeg:https://sv-lg08.de/wp-content/uploads/2026/01/Wesensbeurteilung_Flyer_OGNeuAnspach2026.jpg
END:VEVENT
BEGIN:VEVENT
DTSTART;VALUE=DATE:20261107
DTEND;VALUE=DATE:20261108
DTSTAMP:20260424T141403
CREATED:20260113T222403Z
LAST-MODIFIED:20260115T113603Z
UID:7233-1794009600-1794095999@sv-lg08.de
SUMMARY:Übungsleiterlizenz in A 2026 OG Weiskirchen
DESCRIPTION:Ort: \nOG Weiskirchen \nHauptstr. 207\n63110 Rodgau \nAnmeldung
URL:https://sv-lg08.de/event/uebungsleiterlizenz-in-abteilung-a-2026-og-weiskirchen/
CATEGORIES:Alle Termine,Leistung,Übungsleiterlizenz
ATTACH;FMTTYPE=image/png:https://sv-lg08.de/wp-content/uploads/2026/01/Lizenz-in-A-2026.png
END:VEVENT
BEGIN:VEVENT
DTSTART;VALUE=DATE:20261114
DTEND;VALUE=DATE:20261115
DTSTAMP:20260424T141403
CREATED:20251203T234743Z
LAST-MODIFIED:20251203T234923Z
UID:7107-1794614400-1794700799@sv-lg08.de
SUMMARY:LG-Helfersichtung/Amtsträgertreffen 2026 OG Neu-Anspach
DESCRIPTION:Ort: \nOG Neu-Anspach \nAm Steinchen \n61267 Neu-Anspach
URL:https://sv-lg08.de/event/helfersichtung-2026-og-neu-anspach/
CATEGORIES:Alle Termine,Leistung
END:VEVENT
BEGIN:VEVENT
DTSTART;VALUE=DATE:20261128
DTEND;VALUE=DATE:20261129
DTSTAMP:20260424T141403
CREATED:20251203T235311Z
LAST-MODIFIED:20260313T180210Z
UID:7112-1795824000-1795910399@sv-lg08.de
SUMMARY:Körung 2026 OG Freigericht
DESCRIPTION:Ort: \nOG Freigericht \nHanauer Landstraße 24\n63594 Hasselroth-Neuenhaßlau \nKM: Mandy Menzel \nLH: Marc Eberius \nMeldestelle: Nina Heiß 0171/3361187 brunoheiss@hotmail.com
URL:https://sv-lg08.de/event/koerung-2026-og-freigericht/
CATEGORIES:Alle Termine,Körung
ATTACH;FMTTYPE=image/jpeg:https://sv-lg08.de/wp-content/uploads/2026/03/Koerung-28.11.2026-Freigericht.jpg
END:VEVENT
BEGIN:VEVENT
DTSTART;VALUE=DATE:20261211
DTEND;VALUE=DATE:20261214
DTSTAMP:20260424T141403
CREATED:20251203T235949Z
LAST-MODIFIED:20260131T115747Z
UID:7115-1796947200-1797206399@sv-lg08.de
SUMMARY:Wesensbeurteilung 2026 OG Heusenstamm
DESCRIPTION:Ort: \nOG Heusenstamm \nSchloßstr. 57\n63150 Heusenstamm  \nWB: Mandy Menzel \nSB: Max Wolf \nMeldestelle: Sabine Schickling Tel. 0176/61905038 sabine-schickling@web.de
URL:https://sv-lg08.de/event/wesensbeurteilung-2026-og-heusenstamm/
CATEGORIES:Alle Termine,Wesensbeurteilung
ATTACH;FMTTYPE=image/jpeg:https://sv-lg08.de/wp-content/uploads/2026/01/Wesensbeurteilung_Flyer_OGHeusenstamm2026.jpg
END:VEVENT
BEGIN:VEVENT
DTSTART;VALUE=DATE:20261219
DTEND;VALUE=DATE:20261220
DTSTAMP:20260424T141403
CREATED:20260113T222610Z
LAST-MODIFIED:20260113T222610Z
UID:7236-1797638400-1797724799@sv-lg08.de
SUMMARY:leistungsorientiertes Hundeführertreffen 2026 OG Weiskirchen
DESCRIPTION:Ort: \nOG Weiskirchen \nHauptstr. 207\n63110 Rodgau
URL:https://sv-lg08.de/event/leistungsorientiertes-hundefuehrertreffen-2026-og-weiskirchen/
CATEGORIES:Alle Termine,Leistung
END:VEVENT
END:VCALENDAR